BEGIN:VCALENDAR
VERSION:2.0
PRODID:-//eventon.com NONSGML v1.0//EN
BEGIN:VEVENT
UID:69eb944b53183
DTSTAMP:20260424T180323
DTSTART:20260708T163000Z
DTEND:20260708T181500Z
LOCATION:Strand IJburg Amsterdam 
SUMMARY:Borstcrawlcursus voor VERVOLG in het Open Water op Woensdagavond 8 juli t/m 12 aug reservedatum 19 aug (in geval van onweer een keer ) van 19.30 - 20.15u - Strand IJburg
DESCRIPTION: Boek hier gelijk: Woensdagavond vanaf 8 juli Strand IJburg: https://www.swimfantastic.com/product/owvervolg8juli/ om 19.30u Ook willen we je vragen dit formulier in te vullen https://goo.gl/forms/FWWS879i8MTdCXFt2
END:VEVENT
END:VCALENDAR